BEGIN:VCALENDAR
VERSION:2.0
PRODID:-//Bureau of Justice Assistance//NONSGML Event Calendar//EN
BEGIN:VEVENT
UID:4177c7bd-f0aa-4963-9b90-ddb382b6b4ed
DTSTART;VALUE=DATE:20200624
SEQUENCE:0
TRANSP:OPAQUE
DTEND;VALUE=DATE:20200626
LOCATION:https://www.bja.ojp.gov/events/international-association-chiefs-po
 lice-technology-conference
SUMMARY:International Association of Chiefs of Police Technology Conference
CLASS:PUBLIC
DESCRIPTION:Learn more about this event: https://www.bja.ojp.gov/events/int
 ernational-association-chiefs-police-technology-conference
X-MICROSOFT-CDO-ALLDAYEVENT:TRUE
DTSTAMP:20260420T052521Z
END:VEVENT
END:VCALENDAR