BEGIN:VCALENDAR
VERSION:2.0
PRODID:-//Bureau of Justice Assistance//NONSGML Event Calendar//EN
BEGIN:VEVENT
UID:96ac4972-4c9e-4d97-8c6f-64e38ac744b8
DTSTART;VALUE=DATE:20200502
SEQUENCE:0
TRANSP:OPAQUE
DTEND;VALUE=DATE:20200506
LOCATION:https://www.bja.ojp.gov/events/virtual-spring-conference-correctio
 nal-health-care
SUMMARY:Virtual Spring Conference on Correctional Health Care
CLASS:PUBLIC
DESCRIPTION:Learn more about this event: https://www.bja.ojp.gov/events/vir
 tual-spring-conference-correctional-health-care
X-MICROSOFT-CDO-ALLDAYEVENT:TRUE
DTSTAMP:20260423T005014Z
END:VEVENT
END:VCALENDAR