BEGIN:VCALENDAR
VERSION:2.0
PRODID:-//Bureau of Justice Assistance//NONSGML Event Calendar//EN
BEGIN:VEVENT
UID:027b52c1-b71f-4d84-ac36-560e02526557
DTSTART;TZID=UTC:20200316T173000
SEQUENCE:0
TRANSP:OPAQUE
DTEND;TZID=UTC:20200316T183000
LOCATION:https://www.bja.ojp.gov/events/adult-drug-court-veterans-treatment
 -court-discretionary-grant-program-fy20-competitive-grant
SUMMARY:Adult Drug Court & Veterans Treatment Court Discretionary Grant Pro
 gram FY20 Competitive Grant Webinar
CLASS:PUBLIC
DESCRIPTION:Learn more about this event: https://www.bja.ojp.gov/events/adu
 lt-drug-court-veterans-treatment-court-discretionary-grant-program-fy20-co
 mpetitive-grant
DTSTAMP:20260423T004355Z
END:VEVENT
END:VCALENDAR