BEGIN:VCALENDAR
VERSION:2.0
PRODID:-//Bureau of Justice Assistance//NONSGML Event Calendar//EN
BEGIN:VEVENT
UID:d8395607-6e03-40eb-9df2-d7e7ffcfc497
DTSTART;TZID=UTC:20200326T180000
SEQUENCE:0
TRANSP:OPAQUE
DTEND;TZID=UTC:20200326T190000
LOCATION:https://www.bja.ojp.gov/events/fy-2020-justice-reinvestment-initia
 tive-reducing-violent-crime-improving-justice-system
SUMMARY:FY 2020 Justice Reinvestment Initiative: Reducing Violent Crime by 
 Improving Justice System Performance
CLASS:PUBLIC
DESCRIPTION:Learn more about this event: https://www.bja.ojp.gov/events/fy-
 2020-justice-reinvestment-initiative-reducing-violent-crime-improving-just
 ice-system
DTSTAMP:20260423T003527Z
END:VEVENT
END:VCALENDAR