BEGIN:VCALENDAR
VERSION:2.0
PRODID:-//Bureau of Justice Assistance//NONSGML Event Calendar//EN
BEGIN:VEVENT
UID:3be67cee-1e7c-4780-9b94-d6e447f9e39a
DTSTART;TZID=UTC:20200330T170000
SEQUENCE:0
TRANSP:OPAQUE
DTEND;TZID=UTC:20200330T180000
LOCATION:https://www.bja.ojp.gov/events/ojp-fy-2020-enhanced-collaborative-
 model-task-force-combat-human-trafficking
SUMMARY:OJP FY 2020 Enhanced Collaborative Model Task Force to Combat Human
  Trafficking
CLASS:PUBLIC
DESCRIPTION:Learn more about this event: https://www.bja.ojp.gov/events/ojp
 -fy-2020-enhanced-collaborative-model-task-force-combat-human-trafficking
DTSTAMP:20260422T212536Z
END:VEVENT
END:VCALENDAR