BEGIN:VCALENDAR
VERSION:2.0
PRODID:-//Bureau of Justice Assistance//NONSGML Event Calendar//EN
BEGIN:VEVENT
UID:0338772e-6dd4-40cb-938e-df6fcacdb4b8
DTSTART;TZID=UTC:20200326T190000
SEQUENCE:0
TRANSP:OPAQUE
DTEND;TZID=UTC:20200326T200000
LOCATION:https://www.bja.ojp.gov/events/treatment-courts-and-covid-19
SUMMARY:Treatment Courts and COVID-19
CLASS:PUBLIC
DESCRIPTION:Learn more about this event: https://www.bja.ojp.gov/events/tre
 atment-courts-and-covid-19
DTSTAMP:20260423T021651Z
END:VEVENT
END:VCALENDAR