BEGIN:VCALENDAR
VERSION:2.0
PRODID:-//Bureau of Justice Assistance//NONSGML Event Calendar//EN
BEGIN:VEVENT
UID:f0fefecf-5ed9-4654-8db3-02918f06369c
DTSTART;TZID=UTC:20200331T170000
SEQUENCE:0
TRANSP:OPAQUE
DTEND;TZID=UTC:20200331T180000
LOCATION:https://www.bja.ojp.gov/events/improving-community-supervision-out
 comes-through-swift-certain-and-fair-responses-fy-2020
SUMMARY:Improving Community Supervision Outcomes Through Swift\, Certain\, 
 and Fair Responses FY 2020 Solicitation
CLASS:PUBLIC
DESCRIPTION:Learn more about this event: https://www.bja.ojp.gov/events/imp
 roving-community-supervision-outcomes-through-swift-certain-and-fair-respo
 nses-fy-2020
DTSTAMP:20260423T023903Z
END:VEVENT
END:VCALENDAR