BEGIN:VCALENDAR
VERSION:2.0
PRODID:-//Bureau of Justice Assistance//NONSGML Event Calendar//EN
BEGIN:VEVENT
UID:c490f9f4-b540-43b8-98a4-e665749ba247
DTSTART;TZID=UTC:20200423T180000
SEQUENCE:0
TRANSP:OPAQUE
DTEND;TZID=UTC:20200423T190000
LOCATION:https://www.bja.ojp.gov/events/first-responder-led-diversion-and-o
 utreach-overview-field-and-primer-implementation
SUMMARY:First Responder Led Diversion and Outreach: An Overview of the Fiel
 d and Primer for Implementation
CLASS:PUBLIC
DESCRIPTION:Learn more about this event: https://www.bja.ojp.gov/events/fir
 st-responder-led-diversion-and-outreach-overview-field-and-primer-implemen
 tation
DTSTAMP:20260420T094723Z
END:VEVENT
END:VCALENDAR