BEGIN:VCALENDAR
VERSION:2.0
PRODID:-//Bureau of Justice Assistance//NONSGML Event Calendar//EN
BEGIN:VEVENT
UID:0a9fae0f-6eca-47d6-a56b-66cf7bd1199b
DTSTART;TZID=UTC:20200413T170000
SEQUENCE:0
TRANSP:OPAQUE
DTEND;TZID=UTC:20200413T180000
LOCATION:https://www.bja.ojp.gov/events/adult-drug-court-and-veterans-treat
 ment-court-discretionary-grant-program-fy20-competitive
SUMMARY:Adult Drug Court and Veterans Treatment Court Discretionary Grant P
 rogram FY20 Competitive Grant Webinar
CLASS:PUBLIC
DESCRIPTION:Learn more about this event: https://www.bja.ojp.gov/events/adu
 lt-drug-court-and-veterans-treatment-court-discretionary-grant-program-fy2
 0-competitive
DTSTAMP:20260423T004300Z
END:VEVENT
END:VCALENDAR