BEGIN:VCALENDAR
VERSION:2.0
PRODID:-//Bureau of Justice Assistance//NONSGML Event Calendar//EN
BEGIN:VEVENT
UID:4199fbea-15eb-4410-8586-f2d6a270bb78
DTSTART;TZID=UTC:20200430T170000
SEQUENCE:0
TRANSP:OPAQUE
DTEND;TZID=UTC:20200430T180000
LOCATION:https://www.bja.ojp.gov/events/bjas-stop-school-violence-program-f
 y-2020-solicitation
SUMMARY:BJA's STOP School Violence Program FY 2020 Solicitation
CLASS:PUBLIC
DESCRIPTION:Learn more about this event: https://www.bja.ojp.gov/events/bja
 s-stop-school-violence-program-fy-2020-solicitation
DTSTAMP:20260423T000750Z
END:VEVENT
END:VCALENDAR