BEGIN:VCALENDAR
VERSION:2.0
PRODID:-//Bureau of Justice Assistance//NONSGML Event Calendar//EN
BEGIN:VEVENT
UID:4571eddb-f06f-41a1-a0ef-04b12409bf3e
DTSTART;TZID=UTC:20200422T170000
SEQUENCE:0
TRANSP:OPAQUE
DTEND;TZID=UTC:20200422T180000
LOCATION:https://www.bja.ojp.gov/events/applying-bjas-body-worn-camera-poli
 cy-and-implementation-program-law-enforcement-grant-what
SUMMARY:Applying for BJA's Body-Worn Camera Policy and Implementation Progr
 am for Law Enforcement Grant: What You Need to Know
CLASS:PUBLIC
DESCRIPTION:Learn more about this event: https://www.bja.ojp.gov/events/app
 lying-bjas-body-worn-camera-policy-and-implementation-program-law-enforcem
 ent-grant-what
DTSTAMP:20260422T231510Z
END:VEVENT
END:VCALENDAR