BEGIN:VCALENDAR
VERSION:2.0
PRODID:-//Bureau of Justice Assistance//NONSGML Event Calendar//EN
BEGIN:VEVENT
UID:474bc0d1-7625-43b9-b742-69426dda111f
DTSTART;TZID=UTC:20200505T190000
SEQUENCE:0
TRANSP:OPAQUE
DTEND;TZID=UTC:20200505T200000
LOCATION:https://www.bja.ojp.gov/events/bja-fiscal-year-2020-funding-opport
 unities-competitive-forensic-science-grant-programs
SUMMARY:BJA Fiscal Year 2020 Funding Opportunities - Competitive Forensic S
 cience Grant Programs
CLASS:PUBLIC
DESCRIPTION:Learn more about this event: https://www.bja.ojp.gov/events/bja
 -fiscal-year-2020-funding-opportunities-competitive-forensic-science-grant
 -programs
DTSTAMP:20260420T041717Z
END:VEVENT
END:VCALENDAR