BEGIN:VCALENDAR
VERSION:2.0
PRODID:-//Bureau of Justice Assistance//NONSGML Event Calendar//EN
BEGIN:VEVENT
UID:3644b72a-6be7-464b-95c2-3d8b254b4d56
DTSTART;TZID=UTC:20200526T200000
SEQUENCE:0
TRANSP:OPAQUE
DTEND;TZID=UTC:20200526T210000
LOCATION:https://www.bja.ojp.gov/events/take-action-make-your-school-safer-
 sro-law-enforcement-role
SUMMARY:Take Action to Make Your School Safer: The SRO & Law Enforcement Ro
 le
CLASS:PUBLIC
DESCRIPTION:Learn more about this event: https://www.bja.ojp.gov/events/tak
 e-action-make-your-school-safer-sro-law-enforcement-role
DTSTAMP:20260422T210705Z
END:VEVENT
END:VCALENDAR