BEGIN:VCALENDAR
VERSION:2.0
PRODID:-//Bureau of Justice Assistance//NONSGML Event Calendar//EN
BEGIN:VEVENT
UID:0c4c06c3-440e-4cf9-8b92-03cac5cd59b5
DTSTART;TZID=UTC:20200527T180000
SEQUENCE:0
TRANSP:OPAQUE
DTEND;TZID=UTC:20200527T190000
LOCATION:https://www.bja.ojp.gov/events/trauma-informed-practices-across-sc
 hool-settings
SUMMARY:Trauma-Informed Practices Across School Settings
CLASS:PUBLIC
DESCRIPTION:Learn more about this event: https://www.bja.ojp.gov/events/tra
 uma-informed-practices-across-school-settings
DTSTAMP:20260422T211318Z
END:VEVENT
END:VCALENDAR