BEGIN:VCALENDAR
VERSION:2.0
PRODID:-//Bureau of Justice Assistance//NONSGML Event Calendar//EN
BEGIN:VEVENT
UID:d2cda4ce-7f15-4b1f-9af2-a93297eef4a4
DTSTART;TZID=UTC:20200625T170000
SEQUENCE:0
TRANSP:OPAQUE
DTEND;TZID=UTC:20200625T180000
LOCATION:https://www.bja.ojp.gov/events/getting-buy-anonymous-reporting-sys
 tems
SUMMARY:Getting Buy-In for Anonymous Reporting Systems
CLASS:PUBLIC
DESCRIPTION:Learn more about this event: https://www.bja.ojp.gov/events/get
 ting-buy-anonymous-reporting-systems
DTSTAMP:20260422T210707Z
END:VEVENT
END:VCALENDAR