BEGIN:VCALENDAR
VERSION:2.0
PRODID:-//Bureau of Justice Assistance//NONSGML Event Calendar//EN
BEGIN:VEVENT
UID:815368aa-c8a7-4a99-ace2-d62563872e71
DTSTART;TZID=UTC:20200603T180000
SEQUENCE:0
TRANSP:OPAQUE
DTEND;TZID=UTC:20200603T190000
LOCATION:https://www.bja.ojp.gov/events/medication-assisted-treatment-court
 house-exploring-franklin-county-ohios-success
SUMMARY:Medication-Assisted Treatment in the Courthouse: Exploring Franklin
  County\, Ohio’s Success
CLASS:PUBLIC
DESCRIPTION:Learn more about this event: https://www.bja.ojp.gov/events/med
 ication-assisted-treatment-courthouse-exploring-franklin-county-ohios-succ
 ess
DTSTAMP:20260423T003520Z
END:VEVENT
END:VCALENDAR