BEGIN:VCALENDAR
VERSION:2.0
PRODID:-//Bureau of Justice Assistance//NONSGML Event Calendar//EN
BEGIN:VEVENT
UID:1ee596e9-d0e5-445a-b0bb-e1c102ac3ee8
DTSTART;TZID=UTC:20200618T180000
SEQUENCE:0
TRANSP:OPAQUE
DTEND;TZID=UTC:20200618T190000
LOCATION:https://www.bja.ojp.gov/events/lifting-voices-law-enforcement-worl
 d-elder-abuse-awareness-day-celebration
SUMMARY:Lifting Up Voices: Law Enforcement World Elder Abuse Awareness Day 
 Celebration
CLASS:PUBLIC
DESCRIPTION:Learn more about this event: https://www.bja.ojp.gov/events/lif
 ting-voices-law-enforcement-world-elder-abuse-awareness-day-celebration
DTSTAMP:20260420T065052Z
END:VEVENT
END:VCALENDAR