BEGIN:VCALENDAR
VERSION:2.0
PRODID:-//Bureau of Justice Assistance//NONSGML Event Calendar//EN
BEGIN:VEVENT
UID:fd578c9c-ae51-4c7e-be2a-71d518d5bb9c
DTSTART;TZID=UTC:20200617T190000
SEQUENCE:0
TRANSP:OPAQUE
DTEND;TZID=UTC:20200617T200000
LOCATION:https://www.bja.ojp.gov/events/officer-wellness-and-resiliency
SUMMARY:Officer Wellness and Resiliency
CLASS:PUBLIC
DESCRIPTION:Learn more about this event: https://www.bja.ojp.gov/events/off
 icer-wellness-and-resiliency
DTSTAMP:20260422T233026Z
END:VEVENT
END:VCALENDAR