BEGIN:VCALENDAR
VERSION:2.0
PRODID:-//Bureau of Justice Assistance//NONSGML Event Calendar//EN
BEGIN:VEVENT
UID:e7451ce1-244b-48c2-aeee-3bc93d12bc21
DTSTART;TZID=UTC:20200624T170000
SEQUENCE:0
TRANSP:OPAQUE
DTEND;TZID=UTC:20200624T173000
LOCATION:https://www.bja.ojp.gov/events/mindfulness-strategies-law-enforcem
 ent-part-2
SUMMARY:Mindfulness Strategies for Law Enforcement (Part 2)
CLASS:PUBLIC
DESCRIPTION:Learn more about this event: https://www.bja.ojp.gov/events/min
 dfulness-strategies-law-enforcement-part-2
DTSTAMP:20260422T233026Z
END:VEVENT
END:VCALENDAR