BEGIN:VCALENDAR
VERSION:2.0
PRODID:-//Bureau of Justice Assistance//NONSGML Event Calendar//EN
BEGIN:VEVENT
UID:bfe8d2db-506c-4fe0-b709-921fcebad58b
DTSTART;TZID=UTC:20200716T170000
SEQUENCE:0
TRANSP:OPAQUE
DTEND;TZID=UTC:20200716T173000
LOCATION:https://www.bja.ojp.gov/events/mindfulness-strategies-law-enforcem
 ent-part-3
SUMMARY:Mindfulness Strategies for Law Enforcement (Part 3)
CLASS:PUBLIC
DESCRIPTION:Learn more about this event: https://www.bja.ojp.gov/events/min
 dfulness-strategies-law-enforcement-part-3
DTSTAMP:20260422T233025Z
END:VEVENT
END:VCALENDAR