BEGIN:VCALENDAR
VERSION:2.0
PRODID:-//Bureau of Justice Assistance//NONSGML Event Calendar//EN
BEGIN:VEVENT
UID:7d7fe813-deaa-4a9a-a7e4-d271825b97b2
DTSTART;TZID=UTC:20200624T170000
SEQUENCE:0
TRANSP:OPAQUE
DTEND;TZID=UTC:20200624T183000
LOCATION:https://www.bja.ojp.gov/events/peer-support-jails-and-prisons-enha
 ncing-therapeutic-communities-and-residential-substance
SUMMARY:Peer Support in Jails and Prisons: Enhancing Therapeutic Communitie
 s and Residential Substance Abuse Treatment Programs
CLASS:PUBLIC
DESCRIPTION:Learn more about this event: https://www.bja.ojp.gov/events/pee
 r-support-jails-and-prisons-enhancing-therapeutic-communities-and-resident
 ial-substance
DTSTAMP:20260422T225841Z
END:VEVENT
END:VCALENDAR