BEGIN:VCALENDAR
VERSION:2.0
PRODID:-//Bureau of Justice Assistance//NONSGML Event Calendar//EN
BEGIN:VEVENT
UID:a6247f86-3db5-4f5c-9b67-3d374b7f28aa
DTSTART;TZID=UTC:20200716T180000
SEQUENCE:0
TRANSP:OPAQUE
DTEND;TZID=UTC:20200716T190000
LOCATION:https://www.bja.ojp.gov/events/methamphetamine-use-disorders-consi
 derations-across-sequential-intercept-model-sim
SUMMARY:Methamphetamine Use Disorders: Considerations from Across the Seque
 ntial Intercept Model (SIM)
CLASS:PUBLIC
DESCRIPTION:Learn more about this event: https://www.bja.ojp.gov/events/met
 hamphetamine-use-disorders-considerations-across-sequential-intercept-mode
 l-sim
DTSTAMP:20260422T225744Z
END:VEVENT
END:VCALENDAR