BEGIN:VCALENDAR
VERSION:2.0
PRODID:-//Bureau of Justice Assistance//NONSGML Event Calendar//EN
BEGIN:VEVENT
UID:1d3f12d8-d610-4ae0-8588-a9b762f84f0b
DTSTART;TZID=UTC:20200811T170000
SEQUENCE:0
TRANSP:OPAQUE
DTEND;TZID=UTC:20200811T183000
LOCATION:https://www.bja.ojp.gov/events/transform-teleservices-expanding-ac
 cess-substance-use-disorder-treatment-drug-courts
SUMMARY:Transform to Teleservices: Expanding Access to Substance Use Disord
 er Treatment in Drug Courts
CLASS:PUBLIC
DESCRIPTION:Learn more about this event: https://www.bja.ojp.gov/events/tra
 nsform-teleservices-expanding-access-substance-use-disorder-treatment-drug
 -courts
DTSTAMP:20260422T214908Z
END:VEVENT
END:VCALENDAR