BEGIN:VCALENDAR
VERSION:2.0
PRODID:-//Bureau of Justice Assistance//NONSGML Event Calendar//EN
BEGIN:VEVENT
UID:ff01692f-583d-4f57-9441-0690d1b0d331
DTSTART;TZID=UTC:20200818T170000
SEQUENCE:0
TRANSP:OPAQUE
DTEND;TZID=UTC:20200818T183000
LOCATION:https://www.bja.ojp.gov/events/transform-teleservices-innovative-a
 pproaches-substance-use-disorder-treatment-happening-now
SUMMARY:Transform to Teleservices: Innovative Approaches to Substance Use D
 isorder Treatment Happening Now in Drug Courts
CLASS:PUBLIC
DESCRIPTION:Learn more about this event: https://www.bja.ojp.gov/events/tra
 nsform-teleservices-innovative-approaches-substance-use-disorder-treatment
 -happening-now
DTSTAMP:20260422T214908Z
END:VEVENT
END:VCALENDAR