BEGIN:VCALENDAR
VERSION:2.0
PRODID:-//Bureau of Justice Assistance//NONSGML Event Calendar//EN
BEGIN:VEVENT
UID:441a7391-f29a-4cdc-8505-9bb7cd563a2d
DTSTART;TZID=UTC:20200831T163000
SEQUENCE:0
TRANSP:OPAQUE
DTEND;TZID=UTC:20200831T180000
LOCATION:https://www.bja.ojp.gov/events/implementing-peer-mentor-program-st
 rategies-engaging-peer-recovery-support-specialists-adult
SUMMARY:Implementing a Peer Mentor Program: Strategies for Engaging Peer Re
 covery Support Specialists in Adult Treatment Courts
CLASS:PUBLIC
DESCRIPTION:Learn more about this event: https://www.bja.ojp.gov/events/imp
 lementing-peer-mentor-program-strategies-engaging-peer-recovery-support-sp
 ecialists-adult
DTSTAMP:20260422T214915Z
END:VEVENT
END:VCALENDAR