BEGIN:VCALENDAR
VERSION:2.0
PRODID:-//Bureau of Justice Assistance//NONSGML Event Calendar//EN
BEGIN:VEVENT
UID:0da18727-d305-4748-9e58-f31fb1a26a59
DTSTART;TZID=UTC:20200729T180000
SEQUENCE:0
TRANSP:OPAQUE
DTEND;TZID=UTC:20200729T190000
LOCATION:https://www.bja.ojp.gov/events/empowering-support-systems-recogniz
 e-identify-and-act-concerning-behavior
SUMMARY:Empowering Support Systems to Recognize\, Identify\, and Act on Con
 cerning Behavior
CLASS:PUBLIC
DESCRIPTION:Learn more about this event: https://www.bja.ojp.gov/events/emp
 owering-support-systems-recognize-identify-and-act-concerning-behavior
DTSTAMP:20260420T111309Z
END:VEVENT
END:VCALENDAR