BEGIN:VCALENDAR
VERSION:2.0
PRODID:-//Bureau of Justice Assistance//NONSGML Event Calendar//EN
BEGIN:VEVENT
UID:37745f90-86a4-4938-8797-e1d8cf18d52c
DTSTART;TZID=UTC:20200730T180000
SEQUENCE:0
TRANSP:OPAQUE
DTEND;TZID=UTC:20200730T190000
LOCATION:https://www.bja.ojp.gov/events/how-build-extremely-valuable-relati
 onships-prosecutors-achieve-your-goals
SUMMARY:How to Build Extremely Valuable Relationships with Prosecutors to A
 chieve Your Goals
CLASS:PUBLIC
DESCRIPTION:Learn more about this event: https://www.bja.ojp.gov/events/how
 -build-extremely-valuable-relationships-prosecutors-achieve-your-goals
DTSTAMP:20260425T225637Z
END:VEVENT
END:VCALENDAR