BEGIN:VCALENDAR
VERSION:2.0
PRODID:-//Bureau of Justice Assistance//NONSGML Event Calendar//EN
BEGIN:VEVENT
UID:09d4e858-762e-4148-9316-816ea3e87c99
DTSTART;TZID=UTC:20200806T170000
SEQUENCE:0
TRANSP:OPAQUE
DTEND;TZID=UTC:20200806T174500
LOCATION:https://www.bja.ojp.gov/events/mindfulness-strategies-law-enforcem
 ent-part-4
SUMMARY:Mindfulness Strategies for Law Enforcement (Part 4)
CLASS:PUBLIC
DESCRIPTION:Learn more about this event: https://www.bja.ojp.gov/events/min
 dfulness-strategies-law-enforcement-part-4
DTSTAMP:20260423T013756Z
END:VEVENT
END:VCALENDAR