BEGIN:VCALENDAR
VERSION:2.0
PRODID:-//Bureau of Justice Assistance//NONSGML Event Calendar//EN
BEGIN:VEVENT
UID:52a62592-3d8c-4e9c-b407-94809fcb586f
DTSTART;TZID=UTC:20200817T173000
SEQUENCE:0
TRANSP:OPAQUE
DTEND;TZID=UTC:20200817T210000
LOCATION:https://www.bja.ojp.gov/events/presidential-task-force-missing-and
 -murdered-american-indians-and-alaska-natives-virtual
SUMMARY:Presidential Task Force on Missing and Murdered American Indians an
 d Alaska Natives Virtual Consultation: BIA Eastern Region
CLASS:PUBLIC
DESCRIPTION:Learn more about this event: https://www.bja.ojp.gov/events/pre
 sidential-task-force-missing-and-murdered-american-indians-and-alaska-nati
 ves-virtual
DTSTAMP:20260425T200157Z
END:VEVENT
END:VCALENDAR