BEGIN:VCALENDAR
VERSION:2.0
PRODID:-//Bureau of Justice Assistance//NONSGML Event Calendar//EN
BEGIN:VEVENT
UID:6b42eee7-ce70-411c-9808-ff54a6550d83
DTSTART;TZID=UTC:20200825T173000
SEQUENCE:0
TRANSP:OPAQUE
DTEND;TZID=UTC:20200825T210000
LOCATION:https://www.bja.ojp.gov/events/presidential-task-force-missing-and
 -murdered-american-indians-and-alaska-natives-virtual-2
SUMMARY:Presidential Task Force on Missing and Murdered American Indians an
 d Alaska Natives Virtual Consultation: BIA Great Plains and Rocky Mountain
  Regions
CLASS:PUBLIC
DESCRIPTION:Learn more about this event: https://www.bja.ojp.gov/events/pre
 sidential-task-force-missing-and-murdered-american-indians-and-alaska-nati
 ves-virtual-2
DTSTAMP:20260425T200419Z
END:VEVENT
END:VCALENDAR