BEGIN:VCALENDAR
VERSION:2.0
PRODID:-//Bureau of Justice Assistance//NONSGML Event Calendar//EN
BEGIN:VEVENT
UID:7fb2dce9-9b37-4f96-9575-7f645c2dcfe6
DTSTART;TZID=UTC:20200827T173000
SEQUENCE:0
TRANSP:OPAQUE
DTEND;TZID=UTC:20200827T210000
LOCATION:https://www.bja.ojp.gov/events/presidential-task-force-missing-and
 -murdered-american-indians-and-alaska-natives-virtual-3
SUMMARY:Presidential Task Force on Missing and Murdered American Indians an
 d Alaska Natives Virtual Consultation: BIA Southwest Region
CLASS:PUBLIC
DESCRIPTION:Learn more about this event: https://www.bja.ojp.gov/events/pre
 sidential-task-force-missing-and-murdered-american-indians-and-alaska-nati
 ves-virtual-3
DTSTAMP:20260425T200418Z
END:VEVENT
END:VCALENDAR