BEGIN:VCALENDAR
VERSION:2.0
PRODID:-//Bureau of Justice Assistance//NONSGML Event Calendar//EN
BEGIN:VEVENT
UID:fcf7f29e-f1be-42c2-b683-c932797e76f3
DTSTART;TZID=UTC:20200831T173000
SEQUENCE:0
TRANSP:OPAQUE
DTEND;TZID=UTC:20200831T210000
LOCATION:https://www.bja.ojp.gov/events/presidential-task-force-missing-and
 -murdered-american-indians-and-alaska-natives-virtual-4
SUMMARY:Presidential Task Force on Missing and Murdered American Indians an
 d Alaska Natives Virtual Consultation: BIA Northwest Region
CLASS:PUBLIC
DESCRIPTION:Learn more about this event: https://www.bja.ojp.gov/events/pre
 sidential-task-force-missing-and-murdered-american-indians-and-alaska-nati
 ves-virtual-4
DTSTAMP:20260425T200419Z
END:VEVENT
END:VCALENDAR