BEGIN:VCALENDAR
VERSION:2.0
PRODID:-//Bureau of Justice Assistance//NONSGML Event Calendar//EN
BEGIN:VEVENT
UID:677b2b87-df99-4a38-a50b-542c6ae585d4
DTSTART;TZID=UTC:20200904T173000
SEQUENCE:0
TRANSP:OPAQUE
DTEND;TZID=UTC:20200904T210000
LOCATION:https://www.bja.ojp.gov/events/presidential-task-force-missing-and
 -murdered-american-indians-and-alaska-natives-virtual-6
SUMMARY:Presidential Task Force on Missing and Murdered American Indians an
 d Alaska Natives Virtual Consultation: BIA Pacific Region (First Session)
CLASS:PUBLIC
DESCRIPTION:Learn more about this event: https://www.bja.ojp.gov/events/pre
 sidential-task-force-missing-and-murdered-american-indians-and-alaska-nati
 ves-virtual-6
DTSTAMP:20260425T200245Z
END:VEVENT
END:VCALENDAR