BEGIN:VCALENDAR
VERSION:2.0
PRODID:-//Bureau of Justice Assistance//NONSGML Event Calendar//EN
BEGIN:VEVENT
UID:a8225e5d-4ff7-445d-9bdc-e6464741845b
DTSTART;TZID=UTC:20200908T173000
SEQUENCE:0
TRANSP:OPAQUE
DTEND;TZID=UTC:20200908T210000
LOCATION:https://www.bja.ojp.gov/events/presidential-task-force-missing-and
 -murdered-american-indians-and-alaska-natives-virtual-7
SUMMARY:Presidential Task Force on Missing and Murdered American Indians an
 d Alaska Natives Virtual Consultation: BIA Pacific Region (Second Session)
CLASS:PUBLIC
DESCRIPTION:Learn more about this event: https://www.bja.ojp.gov/events/pre
 sidential-task-force-missing-and-murdered-american-indians-and-alaska-nati
 ves-virtual-7
DTSTAMP:20260425T200157Z
END:VEVENT
END:VCALENDAR