BEGIN:VCALENDAR
VERSION:2.0
PRODID:-//Bureau of Justice Assistance//NONSGML Event Calendar//EN
BEGIN:VEVENT
UID:0f088533-6bcd-447f-9ba7-8a70a6f701eb
DTSTART;TZID=UTC:20200914T173000
SEQUENCE:0
TRANSP:OPAQUE
DTEND;TZID=UTC:20200914T210000
LOCATION:https://www.bja.ojp.gov/events/presidential-task-force-missing-and
 -murdered-american-indians-and-alaska-natives-virtual-9
SUMMARY:Presidential Task Force on Missing and Murdered American Indians an
 d Alaska Natives Virtual Consultation: BIA Alaska Region (Second Session)
CLASS:PUBLIC
DESCRIPTION:Learn more about this event: https://www.bja.ojp.gov/events/pre
 sidential-task-force-missing-and-murdered-american-indians-and-alaska-nati
 ves-virtual-9
DTSTAMP:20260425T200156Z
END:VEVENT
END:VCALENDAR