BEGIN:VCALENDAR
VERSION:2.0
PRODID:-//Bureau of Justice Assistance//NONSGML Event Calendar//EN
BEGIN:VEVENT
UID:287a78c4-ea42-4016-9d40-34705ebefa0b
DTSTART;TZID=UTC:20200817T180000
SEQUENCE:0
TRANSP:OPAQUE
DTEND;TZID=UTC:20200817T220000
LOCATION:https://www.bja.ojp.gov/events/domestic-violence-indian-country-in
 vestigation-basics-and-prosecution-options
SUMMARY:Domestic Violence in Indian Country: Investigation Basics and Prose
 cution Options
CLASS:PUBLIC
DESCRIPTION:Learn more about this event: https://www.bja.ojp.gov/events/dom
 estic-violence-indian-country-investigation-basics-and-prosecution-options
DTSTAMP:20260422T201349Z
END:VEVENT
END:VCALENDAR