BEGIN:VCALENDAR
VERSION:2.0
PRODID:-//Bureau of Justice Assistance//NONSGML Event Calendar//EN
BEGIN:VEVENT
UID:3ddb4b73-cf2a-4a3f-bb55-64d0254b0558
DTSTART;TZID=UTC:20200813T180000
SEQUENCE:0
TRANSP:OPAQUE
DTEND;TZID=UTC:20200813T190000
LOCATION:https://www.bja.ojp.gov/events/implementing-telehealth-jails
SUMMARY:Implementing Telehealth in Jails
CLASS:PUBLIC
DESCRIPTION:Learn more about this event: https://www.bja.ojp.gov/events/imp
 lementing-telehealth-jails
DTSTAMP:20260422T214741Z
END:VEVENT
END:VCALENDAR