BEGIN:VCALENDAR
VERSION:2.0
PRODID:-//Bureau of Justice Assistance//NONSGML Event Calendar//EN
BEGIN:VEVENT
UID:a6c547fb-83f4-4278-9b70-95ac58a5961d
DTSTART;TZID=UTC:20200827T180000
SEQUENCE:0
TRANSP:OPAQUE
DTEND;TZID=UTC:20200827T190000
LOCATION:https://www.bja.ojp.gov/events/preventing-law-enforcement-suicide-
 strategies-effective-and-positive-messaging
SUMMARY:Preventing Law Enforcement Suicide: Strategies for Effective and Po
 sitive Messaging
CLASS:PUBLIC
DESCRIPTION:Learn more about this event: https://www.bja.ojp.gov/events/pre
 venting-law-enforcement-suicide-strategies-effective-and-positive-messagin
 g
DTSTAMP:20260422T233111Z
END:VEVENT
END:VCALENDAR