BEGIN:VCALENDAR
VERSION:2.0
PRODID:-//Bureau of Justice Assistance//NONSGML Event Calendar//EN
BEGIN:VEVENT
UID:9b426315-d227-469c-972b-9140fd6dae2a
DTSTART;TZID=UTC:20200826T170000
SEQUENCE:0
TRANSP:OPAQUE
DTEND;TZID=UTC:20200826T183000
LOCATION:https://www.bja.ojp.gov/events/public-health-peer-support-models
SUMMARY:Public Health Peer Support Models
CLASS:PUBLIC
DESCRIPTION:Learn more about this event: https://www.bja.ojp.gov/events/pub
 lic-health-peer-support-models
DTSTAMP:20260422T225917Z
END:VEVENT
END:VCALENDAR