BEGIN:VCALENDAR
VERSION:2.0
PRODID:-//Bureau of Justice Assistance//NONSGML Event Calendar//EN
BEGIN:VEVENT
UID:51f111fd-9d6b-4352-a3fe-fcd58fc114be
DTSTART;TZID=UTC:20200901T180000
SEQUENCE:0
TRANSP:OPAQUE
DTEND;TZID=UTC:20200901T190000
LOCATION:https://www.bja.ojp.gov/events/depth-look-core-standards-sexual-as
 sault-investigations-guide
SUMMARY:An In-Depth Look at the Core Standards for Sexual Assault Investiga
 tions Guide
CLASS:PUBLIC
DESCRIPTION:Learn more about this event: https://www.bja.ojp.gov/events/dep
 th-look-core-standards-sexual-assault-investigations-guide
DTSTAMP:20260422T232247Z
END:VEVENT
END:VCALENDAR