BEGIN:VCALENDAR
VERSION:2.0
PRODID:-//Bureau of Justice Assistance//NONSGML Event Calendar//EN
BEGIN:VEVENT
UID:f1687f5a-0a94-4856-be24-0cb5312f96dc
DTSTART;VALUE=DATE:20200913
SEQUENCE:0
TRANSP:OPAQUE
DTEND;VALUE=DATE:20201220
LOCATION:https://www.bja.ojp.gov/events/tribal-probation-academy
SUMMARY:Tribal Probation Academy
CLASS:PUBLIC
DESCRIPTION:Learn more about this event: https://www.bja.ojp.gov/events/tri
 bal-probation-academy
X-MICROSOFT-CDO-ALLDAYEVENT:TRUE
DTSTAMP:20260420T063846Z
END:VEVENT
END:VCALENDAR