BEGIN:VCALENDAR
VERSION:2.0
PRODID:-//Bureau of Justice Assistance//NONSGML Event Calendar//EN
BEGIN:VEVENT
UID:1d5411d0-f3a9-4739-af43-ec073ed64b78
DTSTART;TZID=UTC:20200909T180000
SEQUENCE:0
TRANSP:OPAQUE
DTEND;TZID=UTC:20200909T191500
LOCATION:https://www.bja.ojp.gov/events/assisting-communities-incorporate-r
 ecovery-initiatives-and-medication-assisted-treatment-all
SUMMARY:Assisting Communities to Incorporate Recovery Initiatives and Medic
 ation Assisted Treatment at All Intercept Points of the Criminal Justice S
 ystem
CLASS:PUBLIC
DESCRIPTION:Learn more about this event: https://www.bja.ojp.gov/events/ass
 isting-communities-incorporate-recovery-initiatives-and-medication-assiste
 d-treatment-all
DTSTAMP:20260422T183205Z
END:VEVENT
END:VCALENDAR