BEGIN:VCALENDAR
VERSION:2.0
PRODID:-//Bureau of Justice Assistance//NONSGML Event Calendar//EN
BEGIN:VEVENT
UID:f9fe8ee7-a975-410c-9c46-6d0d6aa2d62f
DTSTART;VALUE=DATE:20200928
SEQUENCE:0
TRANSP:OPAQUE
DTEND;VALUE=DATE:20201003
LOCATION:https://www.bja.ojp.gov/events/tribal-healing-wellness-court-virtu
 al-enhancement-training
SUMMARY:Tribal Healing to Wellness Court Virtual Enhancement Training
CLASS:PUBLIC
DESCRIPTION:Learn more about this event: https://www.bja.ojp.gov/events/tri
 bal-healing-wellness-court-virtual-enhancement-training
X-MICROSOFT-CDO-ALLDAYEVENT:TRUE
DTSTAMP:20260423T000754Z
END:VEVENT
END:VCALENDAR