BEGIN:VCALENDAR
VERSION:2.0
PRODID:-//Bureau of Justice Assistance//NONSGML Event Calendar//EN
BEGIN:VEVENT
UID:d6a5faee-2f28-4656-b7ec-9d3ae15630aa
DTSTART;TZID=UTC:20201007T180000
SEQUENCE:0
TRANSP:OPAQUE
DTEND;TZID=UTC:20201007T193000
LOCATION:https://www.bja.ojp.gov/events/technology-address-violence
SUMMARY:Technology to Address Violence
CLASS:PUBLIC
DESCRIPTION:Learn more about this event: https://www.bja.ojp.gov/events/tec
 hnology-address-violence
DTSTAMP:20260423T003624Z
END:VEVENT
END:VCALENDAR