BEGIN:VCALENDAR
VERSION:2.0
PRODID:-//Bureau of Justice Assistance//NONSGML Event Calendar//EN
BEGIN:VEVENT
UID:812d09e6-e857-48c3-bb43-0f764b39432f
DTSTART;TZID=UTC:20200925T180000
SEQUENCE:0
TRANSP:OPAQUE
DTEND;TZID=UTC:20200925T193000
LOCATION:https://www.bja.ojp.gov/events/advancing-prosecutor-led-behavioral
 -health-diversion
SUMMARY:Advancing Prosecutor-Led Behavioral Health Diversion
CLASS:PUBLIC
DESCRIPTION:Learn more about this event: https://www.bja.ojp.gov/events/adv
 ancing-prosecutor-led-behavioral-health-diversion
DTSTAMP:20260420T092533Z
END:VEVENT
END:VCALENDAR