BEGIN:VCALENDAR
VERSION:2.0
PRODID:-//Bureau of Justice Assistance//NONSGML Event Calendar//EN
BEGIN:VEVENT
UID:ebdeb193-2cf9-4042-9b88-29001a6ac663
DTSTART;TZID=UTC:20200930T170000
SEQUENCE:0
TRANSP:OPAQUE
DTEND;TZID=UTC:20200930T180000
LOCATION:https://www.bja.ojp.gov/events/comprehensive-framework-preventing-
 law-enforcement-suicide
SUMMARY:Comprehensive Framework for Preventing Law Enforcement Suicide
CLASS:PUBLIC
DESCRIPTION:Learn more about this event: https://www.bja.ojp.gov/events/com
 prehensive-framework-preventing-law-enforcement-suicide
DTSTAMP:20260422T233025Z
END:VEVENT
END:VCALENDAR