BEGIN:VCALENDAR
VERSION:2.0
PRODID:-//Bureau of Justice Assistance//NONSGML Event Calendar//EN
BEGIN:VEVENT
UID:be58dc68-998f-4b4d-a1f9-7669597b5b3e
DTSTART;TZID=UTC:20201119T190000
SEQUENCE:0
TRANSP:OPAQUE
DTEND;TZID=UTC:20201119T203000
LOCATION:https://www.bja.ojp.gov/events/addressing-misconceptions-and-barri
 ers-medication-assisted-treatment-criminal-justice
SUMMARY:Addressing Misconceptions and Barriers to Medication-Assisted Treat
 ment in Criminal Justice Settings
CLASS:PUBLIC
DESCRIPTION:Learn more about this event: https://www.bja.ojp.gov/events/add
 ressing-misconceptions-and-barriers-medication-assisted-treatment-criminal
 -justice
DTSTAMP:20260422T183132Z
END:VEVENT
END:VCALENDAR