BEGIN:VCALENDAR
VERSION:2.0
PRODID:-//Bureau of Justice Assistance//NONSGML Event Calendar//EN
BEGIN:VEVENT
UID:922b7a03-fe94-4100-8333-21e13f0d00fe
DTSTART;TZID=UTC:20210128T190000
SEQUENCE:0
TRANSP:OPAQUE
DTEND;TZID=UTC:20210128T200000
LOCATION:https://www.bja.ojp.gov/events/overdose-education-and-naloxone-dis
 tribution-programs-jails
SUMMARY:Overdose Education and Naloxone Distribution Programs in Jails
CLASS:PUBLIC
DESCRIPTION:Learn more about this event: https://www.bja.ojp.gov/events/ove
 rdose-education-and-naloxone-distribution-programs-jails
DTSTAMP:20260422T183108Z
END:VEVENT
END:VCALENDAR