BEGIN:VCALENDAR
VERSION:2.0
PRODID:-//Bureau of Justice Assistance//NONSGML Event Calendar//EN
BEGIN:VEVENT
UID:830b22d9-c936-4a44-ad77-0a6677e7544e
DTSTART;VALUE=DATE:20210317
SEQUENCE:0
TRANSP:OPAQUE
DTEND;VALUE=DATE:20210320
LOCATION:https://www.bja.ojp.gov/events/officer-safety-wellness-symposium-0
SUMMARY:Officer Safety & Wellness Symposium
CLASS:PUBLIC
DESCRIPTION:Learn more about this event: https://www.bja.ojp.gov/events/off
 icer-safety-wellness-symposium-0
X-MICROSOFT-CDO-ALLDAYEVENT:TRUE
DTSTAMP:20260422T232958Z
END:VEVENT
END:VCALENDAR