BEGIN:VCALENDAR
VERSION:2.0
PRODID:-//Bureau of Justice Assistance//NONSGML Event Calendar//EN
BEGIN:VEVENT
UID:f3db7b3c-4ebb-4070-b0d3-e1a8f1a5c966
DTSTART;TZID=UTC:20201029T180000
SEQUENCE:0
TRANSP:OPAQUE
DTEND;TZID=UTC:20201029T193000
LOCATION:https://www.bja.ojp.gov/events/diverting-people-intellectual-and-d
 evelopmental-disabilities-criminal-justice-system
SUMMARY:Diverting People with Intellectual and Developmental Disabilities f
 rom the Criminal Justice System
CLASS:PUBLIC
DESCRIPTION:Learn more about this event: https://www.bja.ojp.gov/events/div
 erting-people-intellectual-and-developmental-disabilities-criminal-justice
 -system
DTSTAMP:20260423T021749Z
END:VEVENT
END:VCALENDAR